BEGIN:VCALENDAR
VERSION:2.0
PRODID:-//Catering to Cats and Dogs - ECPv6.15.10//NONSGML v1.0//EN
CALSCALE:GREGORIAN
METHOD:PUBLISH
X-ORIGINAL-URL:https://c2cnd.org
X-WR-CALDESC:Events for Catering to Cats and Dogs
REFRESH-INTERVAL;VALUE=DURATION:PT1H
X-Robots-Tag:noindex
X-PUBLISHED-TTL:PT1H
BEGIN:VTIMEZONE
TZID:America/New_York
BEGIN:DAYLIGHT
TZOFFSETFROM:-0500
TZOFFSETTO:-0400
TZNAME:EDT
DTSTART:20140309T070000
END:DAYLIGHT
BEGIN:STANDARD
TZOFFSETFROM:-0400
TZOFFSETTO:-0500
TZNAME:EST
DTSTART:20141102T060000
END:STANDARD
BEGIN:DAYLIGHT
TZOFFSETFROM:-0500
TZOFFSETTO:-0400
TZNAME:EDT
DTSTART:20150308T070000
END:DAYLIGHT
BEGIN:STANDARD
TZOFFSETFROM:-0400
TZOFFSETTO:-0500
TZNAME:EST
DTSTART:20151101T060000
END:STANDARD
BEGIN:DAYLIGHT
TZOFFSETFROM:-0500
TZOFFSETTO:-0400
TZNAME:EDT
DTSTART:20160313T070000
END:DAYLIGHT
BEGIN:STANDARD
TZOFFSETFROM:-0400
TZOFFSETTO:-0500
TZNAME:EST
DTSTART:20161106T060000
END:STANDARD
BEGIN:DAYLIGHT
TZOFFSETFROM:-0500
TZOFFSETTO:-0400
TZNAME:EDT
DTSTART:20170312T070000
END:DAYLIGHT
BEGIN:STANDARD
TZOFFSETFROM:-0400
TZOFFSETTO:-0500
TZNAME:EST
DTSTART:20171105T060000
END:STANDARD
BEGIN:DAYLIGHT
TZOFFSETFROM:-0500
TZOFFSETTO:-0400
TZNAME:EDT
DTSTART:20180311T070000
END:DAYLIGHT
BEGIN:STANDARD
TZOFFSETFROM:-0400
TZOFFSETTO:-0500
TZNAME:EST
DTSTART:20181104T060000
END:STANDARD
BEGIN:DAYLIGHT
TZOFFSETFROM:-0500
TZOFFSETTO:-0400
TZNAME:EDT
DTSTART:20190310T070000
END:DAYLIGHT
BEGIN:STANDARD
TZOFFSETFROM:-0400
TZOFFSETTO:-0500
TZNAME:EST
DTSTART:20191103T060000
END:STANDARD
END:VTIMEZONE
BEGIN:VEVENT
DTSTART;TZID=America/New_York:20180420T180000
DTEND;TZID=America/New_York:20180420T220000
DTSTAMP:20260423T053242
CREATED:20180323T185845Z
LAST-MODIFIED:20180323T202316Z
UID:18062-1524247200-1524261600@c2cnd.org
SUMMARY:Pints & Pups
DESCRIPTION:Pints & Pups\n\nBenefiting the animals of Catering to Cats and Dogs\nBottled & Tapped will donate $1 for every pint sold\nYappy Hour Bakery will donate 20% of Sales\nMeet Adoptable dogs from Catering to Cats and Dogs\nRaffle for a chance to win amazing prizes\nHot dogs and baked goods will be available
URL:https://c2cnd.org/event/pints-and-pups/
LOCATION:Yappy Hour Bakery
CATEGORIES:Adoption,Entertainment,Fun,Spirits
ATTACH;FMTTYPE=image/jpeg:https://c2cnd.org/wp-content/uploads/2018/03/pintandpups.jpg
END:VEVENT
BEGIN:VEVENT
DTSTART;TZID=America/New_York:20180411T100000
DTEND;TZID=America/New_York:20180411T230000
DTSTAMP:20260423T053242
CREATED:20180323T184835Z
LAST-MODIFIED:20180323T184835Z
UID:18059-1523440800-1523487600@c2cnd.org
SUMMARY:Highland Shoppes
DESCRIPTION:Highland Shoppes\nJoin us every second Wednesday of the month and help raise money for the animals at Catering to Cats and Dogs \n\n15% cost of your meal will be donated to the Rescue Animals (Dine in\, Take out\, Bar)\n$5 Wine Specials on select wines
URL:https://c2cnd.org/event/highland-shoppes/
LOCATION:Highland Shoppes\, 5814 Highland Shoppes\, Charlotte\, NC\, 28269\, United States
CATEGORIES:Adoption,Dinner,Entertainment,Food,Spirits
END:VEVENT
BEGIN:VEVENT
DTSTART;TZID=America/New_York:20170606T080000
DTEND;TZID=America/New_York:20170606T170000
DTSTAMP:20260423T053242
CREATED:20170606T150409Z
LAST-MODIFIED:20170606T150409Z
UID:17943-1496736000-1496768400@c2cnd.org
SUMMARY:Costume Pawty
DESCRIPTION:Super Hero Costume Pawty\nCome decked out in your best Super dog costume! \nTerrapin Tap takeover featuring $5 drafts and $3.50 cans. \nDonations to enter the contest with 100% of proceeds given to Catering to Cats and Dogs.
URL:https://c2cnd.org/event/costume-pawty/
LOCATION:Pinhouse\, 2306 Central Ave\, Charlotte\, NC\, 28205\, United States
CATEGORIES:Entertainment,Fun,Spirits
ATTACH;FMTTYPE=image/jpeg:https://c2cnd.org/wp-content/uploads/2017/06/18928345_10210692175273729_1586312614_n.jpg
END:VEVENT
BEGIN:VEVENT
DTSTART;TZID=America/New_York:20170520T180000
DTEND;TZID=America/New_York:20170520T220000
DTSTAMP:20260423T053242
CREATED:20170412T022125Z
LAST-MODIFIED:20170412T024416Z
UID:17915-1495303200-1495317600@c2cnd.org
SUMMARY:Fur Ball
DESCRIPTION:A Prom for the Paws & A Tail to remember!\nClick for Flyer \nCome join us at the Heritage House in Mooresville NC \nProceeds Benefit Catering to Cats and Dogs \nDinner\, Dancing and Tail Wagging.\nPet Superlative Photo Contest\, Silent Auction\, 50/50 Raffle\, Cash Bar\, Prom King and Queen \nSmall Price $60 Big Reward!\nYou may PURCHASE TICKETS HERE! \nhttps://petpilgrimage.com \nPhone: (704) 664-5484 \nAttire is Fun or Fancy\, Black Tie Optional \nPets with social grace are welcome! \nYour reservation includes:\nDinner\n1 drink ticket\n1 pet superlative photo entry and\nthe opportunity to enter other fun contests and drawings \nCall 704.664.5484 to reserve your spot or\nDownload the reservation form and send in your payment by mail
URL:https://c2cnd.org/event/fur-ball/
CATEGORIES:Adoption,Dinner,Entertainment,Fun,Spirits
ATTACH;FMTTYPE=image/jpeg:https://c2cnd.org/wp-content/uploads/2017/04/17918430_996342460500988_248184954_n.jpg
END:VEVENT
BEGIN:VEVENT
DTSTART;TZID=America/New_York:20170428T180000
DTEND;TZID=America/New_York:20170428T220000
DTSTAMP:20260423T053242
CREATED:20170404T215829Z
LAST-MODIFIED:20170404T215829Z
UID:17906-1493402400-1493416800@c2cnd.org
SUMMARY:Pints & Pups
DESCRIPTION:Pints and Pups \nBenefiting Catering to Cats and Dogs
URL:https://c2cnd.org/event/pints-pups/
CATEGORIES:Entertainment,Spirits
ATTACH;FMTTYPE=image/png:https://c2cnd.org/wp-content/uploads/2017/04/Pints_and_Pups.png
END:VEVENT
BEGIN:VEVENT
DTSTART;TZID=America/New_York:20151024T130000
DTEND;TZID=America/New_York:20151024T170000
DTSTAMP:20260423T053242
CREATED:20151020T034056Z
LAST-MODIFIED:20151021T215131Z
UID:16659-1445691600-1445706000@c2cnd.org
SUMMARY:Brazwells Adopt-a-Thon
DESCRIPTION:Come out to Brazwell’s on October 24th to hang out with some awesome local rescues to raise awareness about their work\, their cause and possibly take home a new family member. Along with these local rescues there will also be multiple vendors from the area ranging from local pet stores to local pet cafes. This is an opportunity to find a pet for your own home\, support all the local rescues and businesses as well as bring your pet out to socialize. \nWe will also be accepting donations. These donations can range from bags of food\, to toys or monetary donations. All proceeds and donations will be split among the rescues present at the Adopt-A-Thon. If you’re not able to make it out on this date but still want to donate\, please contact Kayla Ann Sirmans or bring your donation by Brazwell’s Premium Pub- Montford Drive. \nIf you have any questions or concerns\, please feel free to contact us. We look forward to having a great event for all!
URL:https://c2cnd.org/event/brazwells-adopt-a-thon/
CATEGORIES:Adoption,Entertainment,Food,Fun,Spirits
ATTACH;FMTTYPE=image/jpeg:https://c2cnd.org/wp-content/uploads/2015/10/Brazwells.jpg
END:VEVENT
END:VCALENDAR