BEGIN:VCALENDAR
VERSION:2.0
PRODID:-//Catering to Cats and Dogs - ECPv6.15.10//NONSGML v1.0//EN
CALSCALE:GREGORIAN
METHOD:PUBLISH
X-WR-CALNAME:Catering to Cats and Dogs
X-ORIGINAL-URL:https://c2cnd.org
X-WR-CALDESC:Events for Catering to Cats and Dogs
REFRESH-INTERVAL;VALUE=DURATION:PT1H
X-Robots-Tag:noindex
X-PUBLISHED-TTL:PT1H
BEGIN:VTIMEZONE
TZID:America/New_York
BEGIN:DAYLIGHT
TZOFFSETFROM:-0500
TZOFFSETTO:-0400
TZNAME:EDT
DTSTART:20140309T070000
END:DAYLIGHT
BEGIN:STANDARD
TZOFFSETFROM:-0400
TZOFFSETTO:-0500
TZNAME:EST
DTSTART:20141102T060000
END:STANDARD
BEGIN:DAYLIGHT
TZOFFSETFROM:-0500
TZOFFSETTO:-0400
TZNAME:EDT
DTSTART:20150308T070000
END:DAYLIGHT
BEGIN:STANDARD
TZOFFSETFROM:-0400
TZOFFSETTO:-0500
TZNAME:EST
DTSTART:20151101T060000
END:STANDARD
BEGIN:DAYLIGHT
TZOFFSETFROM:-0500
TZOFFSETTO:-0400
TZNAME:EDT
DTSTART:20160313T070000
END:DAYLIGHT
BEGIN:STANDARD
TZOFFSETFROM:-0400
TZOFFSETTO:-0500
TZNAME:EST
DTSTART:20161106T060000
END:STANDARD
BEGIN:DAYLIGHT
TZOFFSETFROM:-0500
TZOFFSETTO:-0400
TZNAME:EDT
DTSTART:20170312T070000
END:DAYLIGHT
BEGIN:STANDARD
TZOFFSETFROM:-0400
TZOFFSETTO:-0500
TZNAME:EST
DTSTART:20171105T060000
END:STANDARD
BEGIN:DAYLIGHT
TZOFFSETFROM:-0500
TZOFFSETTO:-0400
TZNAME:EDT
DTSTART:20180311T070000
END:DAYLIGHT
BEGIN:STANDARD
TZOFFSETFROM:-0400
TZOFFSETTO:-0500
TZNAME:EST
DTSTART:20181104T060000
END:STANDARD
BEGIN:DAYLIGHT
TZOFFSETFROM:-0500
TZOFFSETTO:-0400
TZNAME:EDT
DTSTART:20190310T070000
END:DAYLIGHT
BEGIN:STANDARD
TZOFFSETFROM:-0400
TZOFFSETTO:-0500
TZNAME:EST
DTSTART:20191103T060000
END:STANDARD
BEGIN:DAYLIGHT
TZOFFSETFROM:-0500
TZOFFSETTO:-0400
TZNAME:EDT
DTSTART:20200308T070000
END:DAYLIGHT
BEGIN:STANDARD
TZOFFSETFROM:-0400
TZOFFSETTO:-0500
TZNAME:EST
DTSTART:20201101T060000
END:STANDARD
BEGIN:DAYLIGHT
TZOFFSETFROM:-0500
TZOFFSETTO:-0400
TZNAME:EDT
DTSTART:20210314T070000
END:DAYLIGHT
BEGIN:STANDARD
TZOFFSETFROM:-0400
TZOFFSETTO:-0500
TZNAME:EST
DTSTART:20211107T060000
END:STANDARD
BEGIN:DAYLIGHT
TZOFFSETFROM:-0500
TZOFFSETTO:-0400
TZNAME:EDT
DTSTART:20220313T070000
END:DAYLIGHT
BEGIN:STANDARD
TZOFFSETFROM:-0400
TZOFFSETTO:-0500
TZNAME:EST
DTSTART:20221106T060000
END:STANDARD
BEGIN:DAYLIGHT
TZOFFSETFROM:-0500
TZOFFSETTO:-0400
TZNAME:EDT
DTSTART:20230312T070000
END:DAYLIGHT
BEGIN:STANDARD
TZOFFSETFROM:-0400
TZOFFSETTO:-0500
TZNAME:EST
DTSTART:20231105T060000
END:STANDARD
END:VTIMEZONE
BEGIN:VEVENT
DTSTART;TZID=America/New_York:20220521T130000
DTEND;TZID=America/New_York:20220521T180000
DTSTAMP:20260422T220934
CREATED:20210713T180823Z
LAST-MODIFIED:20220421T143027Z
UID:19104-1653138000-1653156000@c2cnd.org
SUMMARY:Doggy Meet and Greet - Primal Brewery
DESCRIPTION:Come out and meet some of our adoptable pups and enjoy a nice cold beer.
URL:https://c2cnd.org/event/doggy-meet-and-greet-primal-brewery/
LOCATION:Primal Brewery\, 16432 Old Statesville Rd\, Huntersville\, NC\, 28078\, United States
ATTACH;FMTTYPE=image/jpeg:https://c2cnd.org/wp-content/uploads/2021/07/primal2.jpg
END:VEVENT
BEGIN:VEVENT
DTSTART;TZID=America/New_York:20220514T130000
DTEND;TZID=America/New_York:20220514T180000
DTSTAMP:20260422T220934
CREATED:20220421T144810Z
LAST-MODIFIED:20220421T144810Z
UID:19193-1652533200-1652551200@c2cnd.org
SUMMARY:Adoption Event at Primal Brewing in Belmont
DESCRIPTION:Come out and meet some adoptable pups!
URL:https://c2cnd.org/event/adoption-event-at-primal-brewing-in-belmont/
LOCATION:Primal Brewing Belmont\, 52 Ervin St\, Belmont\, NC\, 28012\, United States
ATTACH;FMTTYPE=image/jpeg:https://c2cnd.org/wp-content/uploads/2022/04/primal-belmont.jpg
END:VEVENT
BEGIN:VEVENT
DTSTART;TZID=America/New_York:20220423T130000
DTEND;TZID=America/New_York:20220423T170000
DTSTAMP:20260422T220934
CREATED:20220317T153152Z
LAST-MODIFIED:20220421T145306Z
UID:19171-1650718800-1650733200@c2cnd.org
SUMMARY:Dog Meet & Greet - Legion Brewing
DESCRIPTION:Come out and meet some adoptable dogs at Legion Brewing \nAddress: \n1906 Commonwealth Ave\nCharlotte NC 28205
URL:https://c2cnd.org/event/dog-meet-greet-legion-brewing/
LOCATION:NC
CATEGORIES:Adoption,Entertainment
ATTACH;FMTTYPE=image/jpeg:https://c2cnd.org/wp-content/uploads/2022/03/legion.jpg
END:VEVENT
BEGIN:VEVENT
DTSTART;TZID=America/New_York:20220409T150000
DTEND;TZID=America/New_York:20220409T190000
DTSTAMP:20260422T220934
CREATED:20210705T180128Z
LAST-MODIFIED:20220317T174952Z
UID:19100-1649516400-1649530800@c2cnd.org
SUMMARY:Easter Bunny Photos at Pinhouse
DESCRIPTION:The Easter Bunny is coming to Pinhouse!\n \nJoin us at Pinhouse’ for a fun Easter Event.\nWe will be taking donations for FREE pictures with the Easter Bunny. There will be vendors available and adoptable pups. Definitely an Easter event you don’t want to miss!\n \nVendors:\nRoxy & Co.\nMaxxie’s Deisgns\nNC Pup Bakery\n \nAddress: \n2306 Central Ave\, \nCharlotte NC 28205
URL:https://c2cnd.org/event/networking-with-your-dog-lucky-dog-bark-brew-charlotte/
LOCATION:Pinhouse\, 2306 Central Ave\, Charlotte\, NC\, 28205\, United States
CATEGORIES:Adoption,Entertainment,Fun
ATTACH;FMTTYPE=image/jpeg:https://c2cnd.org/wp-content/uploads/2022/03/Easter-Bunny.jpg
END:VEVENT
BEGIN:VEVENT
DTSTART;TZID=America/New_York:20220320T130000
DTEND;TZID=America/New_York:20220320T170000
DTSTAMP:20260422T220934
CREATED:20220317T141921Z
LAST-MODIFIED:20220317T153614Z
UID:19146-1647781200-1647795600@c2cnd.org
SUMMARY:Dog Meet & Greet - Traust Brewing Company
DESCRIPTION:Come out and meet adoptable dogs and drink a nice cold beer \n  \nAddress: \n128 S. Main St. \nMt. Holly 
URL:https://c2cnd.org/event/dog-meet-greet-traust-brewing-company/
LOCATION:NC
CATEGORIES:Adoption,Entertainment
ATTACH;FMTTYPE=image/jpeg:https://c2cnd.org/wp-content/uploads/2022/03/test.jpg
END:VEVENT
BEGIN:VEVENT
DTSTART;TZID=America/New_York:20210912T120000
DTEND;TZID=America/New_York:20210912T160000
DTSTAMP:20260422T220934
CREATED:20210909T211713Z
LAST-MODIFIED:20210909T211713Z
UID:19130-1631448000-1631462400@c2cnd.org
SUMMARY:SKIPTOWN SOUTH END CLT
DESCRIPTION:Come see some of our amazing adoptable dogs at SKIPTOWN SOUTH END CLT on September 12th from 12-4. Maybe meet your new best friend.
URL:https://c2cnd.org/event/skiptown-south-end-clt/
LOCATION:NC
CATEGORIES:Adoption,Entertainment
ATTACH;FMTTYPE=image/jpeg:https://c2cnd.org/wp-content/uploads/2021/09/skip-town.jpg
END:VEVENT
BEGIN:VEVENT
DTSTART;TZID=America/New_York:20210904T170000
DTEND;TZID=America/New_York:20210904T203000
DTSTAMP:20260422T220934
CREATED:20210901T160506Z
LAST-MODIFIED:20220317T145033Z
UID:19124-1630774800-1630787400@c2cnd.org
SUMMARY:Waga Muffins
DESCRIPTION:Come meet some of our amazing C2CND adoptable dogs on Saturday\, September 4th in Mooresville. We will set up in front of wagamuffins.
URL:https://c2cnd.org/event/waga-muffins/
LOCATION:NC
CATEGORIES:Adoption,Entertainment
ATTACH;FMTTYPE=image/jpeg:https://c2cnd.org/wp-content/uploads/2021/09/waga-muffins.jpg
END:VEVENT
BEGIN:VEVENT
DTSTART;TZID=America/New_York:20210725T120000
DTEND;TZID=America/New_York:20210725T180000
DTSTAMP:20260422T220934
CREATED:20210713T183310Z
LAST-MODIFIED:20210713T183359Z
UID:19113-1627214400-1627236000@c2cnd.org
SUMMARY:Pool Party at Skiptown
DESCRIPTION:Join us July 25th for the “ultimutt” pool party for pups! Keep cool in the summer heat and enjoy:\n– Live music by Greg Lilley\n– Extended splash pad hours\n– Inflatable pools and sprinklers for the pups in the side yard and splash pad\n– Bubble blasters in the main yard\n– All Skiptown visitors will receive Skiptown sunglasses and bubbles upon entry\n \nWe will have adoptable pups from Catering to Cats and Dogs Rescue on-site from 11:30AM-4PM! You will be able to spot them playing in the yards with their “Adopt Me” bandanas on. The Catering to Cats and Dogs team will be onsite to answer questions about all of the pups\, their adoption process\, and more! We will also be hosting a benefit raffle with items and gift cards from local shops and restaurants to benefit the rescue.
URL:https://c2cnd.org/event/pool-party-at-skiptown/
LOCATION:Skiptown\, 222 Rampart St\, Charlotte\, NC\, 28203\, United States
ATTACH;FMTTYPE=image/jpeg:https://c2cnd.org/wp-content/uploads/2021/07/skiptown.jpg
END:VEVENT
BEGIN:VEVENT
DTSTART;TZID=America/New_York:20210724T110000
DTEND;TZID=America/New_York:20210724T140000
DTSTAMP:20260422T220934
CREATED:20190412T023327Z
LAST-MODIFIED:20210705T175641Z
UID:18285-1627124400-1627135200@c2cnd.org
SUMMARY:Pet Supplies Plus - Concord Mills
DESCRIPTION:Come on out to Pet Supplies Plus Concord Mills and meet your next best friend. Please feel free to bring your family and your pet and be sure to talk with our volunteer staff. We are here to answer your questions and let you get acquainted with the pets.We look forward to seeing you there!
URL:https://c2cnd.org/event/pet-supplies-plus-concord-mills/
LOCATION:Pet Supplies Plus Concord\, 8895 Christenbury Pkwy\, Concord\, NC\, 28027\, United States
CATEGORIES:Adoption
ATTACH;FMTTYPE=image/jpeg:https://c2cnd.org/wp-content/uploads/2019/04/PetSuppliesPlus.jpg
END:VEVENT
BEGIN:VEVENT
DTSTART;TZID=America/New_York:20210717T150000
DTEND;TZID=America/New_York:20210717T170000
DTSTAMP:20260422T220934
CREATED:20210713T182607Z
LAST-MODIFIED:20210713T182607Z
UID:19109-1626534000-1626541200@c2cnd.org
SUMMARY:Kendra Gives Back
DESCRIPTION:Join us at Kendra Scott Southpark for a giveback benefiting Catering to Cats and Dogs! 20% of proceeds will be donated back!
URL:https://c2cnd.org/event/kendra-gives-back/
LOCATION:NC
ATTACH;FMTTYPE=image/jpeg:https://c2cnd.org/wp-content/uploads/2021/07/Kendra.jpg
END:VEVENT
BEGIN:VEVENT
DTSTART;TZID=America/New_York:20210710T100000
DTEND;TZID=America/New_York:20210710T150000
DTSTAMP:20260422T220934
CREATED:20151020T033841Z
LAST-MODIFIED:20210705T174112Z
UID:16638-1625911200-1625929200@c2cnd.org
SUMMARY:Dog Supplies - Denver\, NC
DESCRIPTION:  \nCome on out to Dog Supplies in Denver\, NC and meet your next best friend. Please feel free to bring your family and your pet and be sure to talk with our volunteer staff. We are here to answer your questions and let you get acquainted with the pets. \nWe look forward to seeing you there!
URL:https://c2cnd.org/event/petsmart-concord/
LOCATION:Dog Supplies – Denver\, NC\, 529 Brentwood Rd Ste 5\, Denver\, NC\, 28037\, United States
CATEGORIES:Adoption
ATTACH;FMTTYPE=image/jpeg:https://c2cnd.org/wp-content/uploads/2015/10/dog-supplies.jpg
END:VEVENT
BEGIN:VEVENT
DTSTART;TZID=America/New_York:20210227T100000
DTEND;TZID=America/New_York:20210227T100000
DTSTAMP:20260422T220934
CREATED:20160706T205012Z
LAST-MODIFIED:20210705T175328Z
UID:17427-1614420000-1614420000@c2cnd.org
SUMMARY:PetPeople Cornelius
DESCRIPTION:Please be aware that ALL events are canceled until further notice. Catering to Cats and Dogs will be following state guidelines and will begin adoption events as soon as possible. Thank you for your understanding.\nPlease join us for an adoption event at PetPeople in Cornelius. We will be hosting an adoption event every 2nd\, 4th and fifth Saturday of every month. \nIf you would like to help and volunteer at the events please feel free to contact us at: \nCats@c2cnd.org \nor \nDogs@c2cnd.org
URL:https://c2cnd.org/event/petpeople-cornelius/
LOCATION:PetPeople Cornelius\, 20623 Torrence Chapel Rd\, Cornelius\, NC\, 28031\, United States
CATEGORIES:Adoption
ATTACH;FMTTYPE=image/jpeg:https://c2cnd.org/wp-content/uploads/2016/07/PetPeopleStore.jpg
END:VEVENT
BEGIN:VEVENT
DTSTART;TZID=America/New_York:20210220T100000
DTEND;TZID=America/New_York:20210220T140000
DTSTAMP:20260422T220934
CREATED:20190412T022657Z
LAST-MODIFIED:20210705T175447Z
UID:18281-1613815200-1613829600@c2cnd.org
SUMMARY:Pet People Highland Creek
DESCRIPTION:Please be aware that ALL events are canceled until further notice. Catering to Cats and Dogs will be following state guidelines and will begin adoption events as soon as possible. Thank you for your understanding.\nCome on out to Pet People Highland Creek and meet your next best friend. Please feel free to bring your family and your pet and be sure to talk with our volunteer staff. We are here to answer your questions and let you get acquainted with the pets. \nWe look forward to seeing you there!
URL:https://c2cnd.org/event/pet-people-highland-creek/
LOCATION:PetPeople Highland Creek\, 10018 Benfield Rd #200\, Charlotte\, NC\, 28269\, United States
CATEGORIES:Adoption
ATTACH;FMTTYPE=image/jpeg:https://c2cnd.org/wp-content/uploads/2019/04/Pet-people-highland-creek.jpg
END:VEVENT
BEGIN:VEVENT
DTSTART;TZID=America/New_York:20210206T100000
DTEND;TZID=America/New_York:20210206T140000
DTSTAMP:20260422T220934
CREATED:20190412T021831Z
LAST-MODIFIED:20210705T175404Z
UID:18276-1612605600-1612620000@c2cnd.org
SUMMARY:PetSmart Ikea
DESCRIPTION:Please be aware that ALL events are canceled until further notice. Catering to Cats and Dogs will be following state guidelines and will begin adoption events as soon as possible. Thank you for your understanding.\nCome on out to PetSmart located in the Belgate Shopping Center and meet your next best friend. Please feel free to bring your family and your pet and be sure to talk with our volunteer staff. We are here to answer your questions and let you get acquainted with the pets. \nWe look forward to seeing you there!
URL:https://c2cnd.org/event/petsmart-ikea/
LOCATION:NC
CATEGORIES:Adoption
ATTACH;FMTTYPE=image/jpeg:https://c2cnd.org/wp-content/uploads/2015/09/Afton-Ridge_Petsmart_ForWeb.jpg
END:VEVENT
BEGIN:VEVENT
DTSTART;TZID=America/New_York:20180915T100000
DTEND;TZID=America/New_York:20180915T100100
DTSTAMP:20260422T220934
CREATED:20151020T033841Z
LAST-MODIFIED:20180913T024633Z
UID:18154-1537005600-1537005660@c2cnd.org
SUMMARY:PetSmart Concord
DESCRIPTION:Because of Hurricane Florence there will be no adoption events this weekend. \nC2CND.org is wishing you and your family a safe and uneventful experience during this time and we look forward to seeing you at the next event. \nPlease stay safe!
URL:https://c2cnd.org/event/petsmart-concord-2018-09-15/
LOCATION:PetSmart – Concord\, 6070 Bayfield Pkwy\, Concord\, NC\, 28027\, United States
CATEGORIES:Adoption
ATTACH;FMTTYPE=image/jpeg:https://c2cnd.org/wp-content/uploads/2015/09/Afton-Ridge_Petsmart_ForWeb.jpg
END:VEVENT
BEGIN:VEVENT
DTSTART;TZID=America/New_York:20180901T100000
DTEND;TZID=America/New_York:20180901T120000
DTSTAMP:20260422T220934
CREATED:20151020T033841Z
LAST-MODIFIED:20180830T153337Z
UID:18151-1535796000-1535803200@c2cnd.org
SUMMARY:PetSmart Concord
DESCRIPTION:Come on out to PetSmart Concord and meet your next best friend. Please feel free to bring your family and your pet and be sure to talk with our volunteer staff. We are here to answer your questions and let you get acquainted with the pets. \nWe look forward to seeing you there! \nPlease be aware this Adoption event will only be until 12:00 in observance of Labor day.
URL:https://c2cnd.org/event/petsmart-concord-2018-09-01/
LOCATION:PetSmart – Concord\, 6070 Bayfield Pkwy\, Concord\, NC\, 28027\, United States
CATEGORIES:Adoption
ATTACH;FMTTYPE=image/jpeg:https://c2cnd.org/wp-content/uploads/2015/09/Afton-Ridge_Petsmart_ForWeb.jpg
END:VEVENT
BEGIN:VEVENT
DTSTART;TZID=America/New_York:20180421T100000
DTEND;TZID=America/New_York:20180421T140000
DTSTAMP:20260422T220934
CREATED:20180416T231702Z
LAST-MODIFIED:20180416T231702Z
UID:18090-1524304800-1524319200@c2cnd.org
SUMMARY:PetSmart Rivergate
DESCRIPTION:Come on out to PetSmart Rivergate and meet your next best friend. Please feel free to bring your family and your pet and be sure to talk with our volunteer staff. We are here to answer your questions and let you get acquainted with the pets. \nWe look forward to seeing you there!
URL:https://c2cnd.org/event/petsmart-rivergate/
LOCATION:NC
CATEGORIES:Adoption
ATTACH;FMTTYPE=image/jpeg:https://c2cnd.org/wp-content/uploads/2018/04/Petsmart-steelcreek.jpg
END:VEVENT
BEGIN:VEVENT
DTSTART;TZID=America/New_York:20180420T180000
DTEND;TZID=America/New_York:20180420T220000
DTSTAMP:20260422T220934
CREATED:20180323T185845Z
LAST-MODIFIED:20180323T202316Z
UID:18062-1524247200-1524261600@c2cnd.org
SUMMARY:Pints & Pups
DESCRIPTION:Pints & Pups\n\nBenefiting the animals of Catering to Cats and Dogs\nBottled & Tapped will donate $1 for every pint sold\nYappy Hour Bakery will donate 20% of Sales\nMeet Adoptable dogs from Catering to Cats and Dogs\nRaffle for a chance to win amazing prizes\nHot dogs and baked goods will be available
URL:https://c2cnd.org/event/pints-and-pups/
LOCATION:Yappy Hour Bakery
CATEGORIES:Adoption,Entertainment,Fun,Spirits
ATTACH;FMTTYPE=image/jpeg:https://c2cnd.org/wp-content/uploads/2018/03/pintandpups.jpg
END:VEVENT
BEGIN:VEVENT
DTSTART;TZID=America/New_York:20180411T100000
DTEND;TZID=America/New_York:20180411T230000
DTSTAMP:20260422T220934
CREATED:20180323T184835Z
LAST-MODIFIED:20180323T184835Z
UID:18059-1523440800-1523487600@c2cnd.org
SUMMARY:Highland Shoppes
DESCRIPTION:Highland Shoppes\nJoin us every second Wednesday of the month and help raise money for the animals at Catering to Cats and Dogs \n\n15% cost of your meal will be donated to the Rescue Animals (Dine in\, Take out\, Bar)\n$5 Wine Specials on select wines
URL:https://c2cnd.org/event/highland-shoppes/
LOCATION:Highland Shoppes\, 5814 Highland Shoppes\, Charlotte\, NC\, 28269\, United States
CATEGORIES:Adoption,Dinner,Entertainment,Food,Spirits
END:VEVENT
BEGIN:VEVENT
DTSTART;TZID=America/New_York:20180324T150000
DTEND;TZID=America/New_York:20180324T180000
DTSTAMP:20260422T220934
CREATED:20180323T203746Z
LAST-MODIFIED:20180323T203746Z
UID:18070-1521903600-1521914400@c2cnd.org
SUMMARY:Easter Bunny Pics at Sycamore
DESCRIPTION:
URL:https://c2cnd.org/event/easter-bunny-pics-at-sycamore/
LOCATION:Sycamore Brewing\, 2161 Hawkings St\, Charlotte\, NC\, 28203\, United States
CATEGORIES:Adoption
END:VEVENT
BEGIN:VEVENT
DTSTART;TZID=America/New_York:20180324T110000
DTEND;TZID=America/New_York:20180324T130000
DTSTAMP:20260422T220934
CREATED:20180323T203438Z
LAST-MODIFIED:20180323T203438Z
UID:18066-1521889200-1521896400@c2cnd.org
SUMMARY:Easter Beeg Hunt
DESCRIPTION:2nd Annual Easter Begg Hunt
URL:https://c2cnd.org/event/easter-beeg-hunt/
LOCATION:Three Dog Bakery\, 19825 N. Cove Rd.\, Cornelius\, 28031\, United States
CATEGORIES:Adoption,Fun
ATTACH;FMTTYPE=image/jpeg:https://c2cnd.org/wp-content/uploads/2018/03/EasterBeggHunt.jpg
END:VEVENT
BEGIN:VEVENT
DTSTART;TZID=America/New_York:20171223T090000
DTEND;TZID=America/New_York:20171223T100000
DTSTAMP:20260422T220934
CREATED:20171218T020118Z
LAST-MODIFIED:20171218T020506Z
UID:18009-1514019600-1514023200@c2cnd.org
SUMMARY:Pictures With Santa - UrgentVet Care
DESCRIPTION:Pictures with Santa! \nMake a donation to Catering to Cats and Dogs and receive a photo session with Santa! \nUrgentVet will match donations up to $500\, doubling your impact! \nThank you Dr. Jim Dobies\, DVM
URL:https://c2cnd.org/event/pictures-santa-urgent-pet-care/
LOCATION:NC
CATEGORIES:Adoption,Entertainment
ATTACH;FMTTYPE=image/jpeg:https://c2cnd.org/wp-content/uploads/2017/12/C2CND-Pictures-with-Santa.jpg
END:VEVENT
BEGIN:VEVENT
DTSTART;TZID=America/New_York:20170606T080000
DTEND;TZID=America/New_York:20170606T170000
DTSTAMP:20260422T220934
CREATED:20170606T150409Z
LAST-MODIFIED:20170606T150409Z
UID:17943-1496736000-1496768400@c2cnd.org
SUMMARY:Costume Pawty
DESCRIPTION:Super Hero Costume Pawty\nCome decked out in your best Super dog costume! \nTerrapin Tap takeover featuring $5 drafts and $3.50 cans. \nDonations to enter the contest with 100% of proceeds given to Catering to Cats and Dogs.
URL:https://c2cnd.org/event/costume-pawty/
LOCATION:Pinhouse\, 2306 Central Ave\, Charlotte\, NC\, 28205\, United States
CATEGORIES:Entertainment,Fun,Spirits
ATTACH;FMTTYPE=image/jpeg:https://c2cnd.org/wp-content/uploads/2017/06/18928345_10210692175273729_1586312614_n.jpg
END:VEVENT
BEGIN:VEVENT
DTSTART;TZID=America/New_York:20170520T180000
DTEND;TZID=America/New_York:20170520T220000
DTSTAMP:20260422T220934
CREATED:20170412T022125Z
LAST-MODIFIED:20170412T024416Z
UID:17915-1495303200-1495317600@c2cnd.org
SUMMARY:Fur Ball
DESCRIPTION:A Prom for the Paws & A Tail to remember!\nClick for Flyer \nCome join us at the Heritage House in Mooresville NC \nProceeds Benefit Catering to Cats and Dogs \nDinner\, Dancing and Tail Wagging.\nPet Superlative Photo Contest\, Silent Auction\, 50/50 Raffle\, Cash Bar\, Prom King and Queen \nSmall Price $60 Big Reward!\nYou may PURCHASE TICKETS HERE! \nhttps://petpilgrimage.com \nPhone: (704) 664-5484 \nAttire is Fun or Fancy\, Black Tie Optional \nPets with social grace are welcome! \nYour reservation includes:\nDinner\n1 drink ticket\n1 pet superlative photo entry and\nthe opportunity to enter other fun contests and drawings \nCall 704.664.5484 to reserve your spot or\nDownload the reservation form and send in your payment by mail
URL:https://c2cnd.org/event/fur-ball/
LOCATION:NC
CATEGORIES:Adoption,Dinner,Entertainment,Fun,Spirits
ATTACH;FMTTYPE=image/jpeg:https://c2cnd.org/wp-content/uploads/2017/04/17918430_996342460500988_248184954_n.jpg
END:VEVENT
BEGIN:VEVENT
DTSTART;TZID=America/New_York:20170428T180000
DTEND;TZID=America/New_York:20170428T220000
DTSTAMP:20260422T220934
CREATED:20170404T215829Z
LAST-MODIFIED:20170404T215829Z
UID:17906-1493402400-1493416800@c2cnd.org
SUMMARY:Pints & Pups
DESCRIPTION:Pints and Pups \nBenefiting Catering to Cats and Dogs
URL:https://c2cnd.org/event/pints-pups/
LOCATION:NC
CATEGORIES:Entertainment,Spirits
ATTACH;FMTTYPE=image/png:https://c2cnd.org/wp-content/uploads/2017/04/Pints_and_Pups.png
END:VEVENT
BEGIN:VEVENT
DTSTART;TZID=America/New_York:20160911T130000
DTEND;TZID=America/New_York:20160911T170000
DTSTAMP:20260422T220934
CREATED:20160809T003513Z
LAST-MODIFIED:20160809T004902Z
UID:17577-1473598800-1473613200@c2cnd.org
SUMMARY:Paint Your Own Pallet Pawty
DESCRIPTION:Paint Your Own Pallet Pawty Benefiting Catering to Cats and Dogs\nWhere: Lucky Dog Bark and Brew (LKN Location)\nSaturday 9/11 from 1-5pm \n\nChoose from 4 fun designs!\n$50 per person with a portion donated to C2CND.\nSign up and pay in advance to reserve your spot at Event – starts at 1pm and painting will last 2 hours.\nMeet some of our adoptable dogs!!\n\nHUGE RAFFLE!!\n**If painting\, please do not bring your fur baby as no one will be there to supervise your pet. No one under 21 permitted.***
URL:https://c2cnd.org/event/paint-pallet-pawty/
LOCATION:NC
CATEGORIES:Entertainment,Fun
ATTACH;FMTTYPE=image/jpeg:https://c2cnd.org/wp-content/uploads/2016/08/paint.jpg
END:VEVENT
BEGIN:VEVENT
DTSTART;TZID=America/New_York:20160214T110000
DTEND;TZID=America/New_York:20160214T150000
DTSTAMP:20260422T220934
CREATED:20160211T181933Z
LAST-MODIFIED:20160211T181933Z
UID:17190-1455447600-1455462000@c2cnd.org
SUMMARY:Concord Valentines Adoption Event
DESCRIPTION:We are hosting a SPECIAL adoption event this Valentines day in Concord
URL:https://c2cnd.org/event/concord-valentines-adoption-event/
LOCATION:PetSmart – Concord\, 6070 Bayfield Pkwy\, Concord\, NC\, 28027\, United States
CATEGORIES:Adoption
ATTACH;FMTTYPE=image/jpeg:https://c2cnd.org/wp-content/uploads/2015/09/Afton-Ridge_Petsmart_ForWeb.jpg
END:VEVENT
BEGIN:VEVENT
DTSTART;TZID=America/New_York:20160212T180000
DTEND;TZID=America/New_York:20160212T210000
DTSTAMP:20260422T220934
CREATED:20160211T181113Z
LAST-MODIFIED:20160211T181712Z
UID:17187-1455300000-1455310800@c2cnd.org
SUMMARY:Concord Adoption Event
DESCRIPTION:We are hosting a SPECIAL adoption event this weekend in Concord
URL:https://c2cnd.org/event/concord-adoption-event/
LOCATION:PetSmart – Concord\, 6070 Bayfield Pkwy\, Concord\, NC\, 28027\, United States
CATEGORIES:Adoption
ATTACH;FMTTYPE=image/jpeg:https://c2cnd.org/wp-content/uploads/2015/09/Afton-Ridge_Petsmart_ForWeb.jpg
END:VEVENT
BEGIN:VEVENT
DTSTART;TZID=America/New_York:20160212T110000
DTEND;TZID=America/New_York:20160212T160000
DTSTAMP:20260422T220934
CREATED:20160211T180644Z
LAST-MODIFIED:20160211T180718Z
UID:17186-1455274800-1455292800@c2cnd.org
SUMMARY:Pet Adoption in Moorseville
DESCRIPTION:We are hosting a special adoption event this Friday come on out and join us
URL:https://c2cnd.org/event/pet-adoption-in-moorseville/
LOCATION:PetSmart Mooresville\, 590-G River Hwy\, Mooresville\, NC\, 28117\, United States
CATEGORIES:Adoption
ATTACH;FMTTYPE=image/jpeg:https://c2cnd.org/wp-content/uploads/2015/11/Moorsevill_opt.jpg
END:VEVENT
BEGIN:VEVENT
DTSTART;TZID=America/New_York:20151121T100000
DTEND;TZID=America/New_York:20151121T140000
DTSTAMP:20260422T220934
CREATED:20151119T184413Z
LAST-MODIFIED:20170803T022043Z
UID:16890-1448100000-1448114400@c2cnd.org
SUMMARY:PetSmart Mooresville
DESCRIPTION:Come on out to PetSmart Mooresville and meet your next best friend. Please feel free to bring your family and your pet and be sure to talk with our volunteer staff. We are here to answer your questions and let you get acquainted with the pets. We look forward to seeing you there!
URL:https://c2cnd.org/event/petsmart-mooresville/
LOCATION:PetSmart Mooresville\, 590-G River Hwy\, Mooresville\, NC\, 28117\, United States
CATEGORIES:Adoption
ATTACH;FMTTYPE=image/jpeg:https://c2cnd.org/wp-content/uploads/2015/11/Moorsevill_opt.jpg
END:VEVENT
END:VCALENDAR