BEGIN:VCALENDAR
VERSION:2.0
PRODID:-//Catering to Cats and Dogs - ECPv6.15.10//NONSGML v1.0//EN
CALSCALE:GREGORIAN
METHOD:PUBLISH
X-ORIGINAL-URL:https://c2cnd.org
X-WR-CALDESC:Events for Catering to Cats and Dogs
REFRESH-INTERVAL;VALUE=DURATION:PT1H
X-Robots-Tag:noindex
X-PUBLISHED-TTL:PT1H
BEGIN:VTIMEZONE
TZID:America/New_York
BEGIN:DAYLIGHT
TZOFFSETFROM:-0500
TZOFFSETTO:-0400
TZNAME:EDT
DTSTART:20140309T070000
END:DAYLIGHT
BEGIN:STANDARD
TZOFFSETFROM:-0400
TZOFFSETTO:-0500
TZNAME:EST
DTSTART:20141102T060000
END:STANDARD
BEGIN:DAYLIGHT
TZOFFSETFROM:-0500
TZOFFSETTO:-0400
TZNAME:EDT
DTSTART:20150308T070000
END:DAYLIGHT
BEGIN:STANDARD
TZOFFSETFROM:-0400
TZOFFSETTO:-0500
TZNAME:EST
DTSTART:20151101T060000
END:STANDARD
BEGIN:DAYLIGHT
TZOFFSETFROM:-0500
TZOFFSETTO:-0400
TZNAME:EDT
DTSTART:20160313T070000
END:DAYLIGHT
BEGIN:STANDARD
TZOFFSETFROM:-0400
TZOFFSETTO:-0500
TZNAME:EST
DTSTART:20161106T060000
END:STANDARD
END:VTIMEZONE
BEGIN:VEVENT
DTSTART;TZID=America/New_York:20151107T110000
DTEND;TZID=America/New_York:20151107T150000
DTSTAMP:20260423T030710
CREATED:20151027T164843Z
LAST-MODIFIED:20151027T164843Z
UID:16769-1446894000-1446908400@c2cnd.org
SUMMARY:Parks Adoption Event
DESCRIPTION:Parks Chevrolet in Huntersville is hosting an Adoption Event to meet your new best friend!\nThere will be \n\nRaffles & Face Painting\nDog Collars for sale\nShirts for sale\nToys for sale\n\nAll will benefit Catering to Cats and Dogs \nCome meet your new furry best friend while supporting a great local rescue! \n 
URL:https://c2cnd.org/event/parks-adoption-event/
LOCATION:NC
CATEGORIES:Adoption,Entertainment,Fun
ATTACH;FMTTYPE=image/jpeg:https://c2cnd.org/wp-content/uploads/2015/10/Parks.jpg
END:VEVENT
BEGIN:VEVENT
DTSTART;TZID=America/New_York:20151031T110000
DTEND;TZID=America/New_York:20151031T160000
DTSTAMP:20260423T030710
CREATED:20151020T034346Z
LAST-MODIFIED:20151020T035456Z
UID:16660-1446289200-1446307200@c2cnd.org
SUMMARY:6th Annual Dogtoberfest
DESCRIPTION:Jackalope Jack’s Restaurant & Bar \nSAVE THE DATE!!! MARK YOUR CALENDARS!!!! \nOur 6th Annual Dogtoberfest will be on HALLOWEEN Day this year\, which means more FUN and FESTIVITIES than ever!!!!!! This is a dog and kid friendly event! \n– TONS of Awesome Raffle Prizes (Our biggest hit!)\n– DOG & HUMAN COSTUME CONTESTS!!\n– Live Music\n– Photo Booth\n– Canvas Paw Painting\n– Bake sale (for dogs and humans)\n– Vendors\n– Games\n– Food & Drink Specials\n– ADOPTABLE DOGS\n– Dog Days of Charlotte Tshirts\, Tanks\, Koozies & Cups for purchase \nStay tuned for MORE DETAILS!! \n*****Interested Vendors or Raffle Prize donations\, please Email Dogdaysofcharlotteevents@yahoo.com
URL:https://c2cnd.org/event/6th-annual-dogtoberfest/
LOCATION:NC
CATEGORIES:Adoption,Entertainment,Food
ATTACH;FMTTYPE=image/png:https://c2cnd.org/wp-content/uploads/2015/10/Dogtober_Fest.png
END:VEVENT
BEGIN:VEVENT
DTSTART;TZID=America/New_York:20151024T130000
DTEND;TZID=America/New_York:20151024T170000
DTSTAMP:20260423T030710
CREATED:20151020T034056Z
LAST-MODIFIED:20151021T215131Z
UID:16659-1445691600-1445706000@c2cnd.org
SUMMARY:Brazwells Adopt-a-Thon
DESCRIPTION:Come out to Brazwell’s on October 24th to hang out with some awesome local rescues to raise awareness about their work\, their cause and possibly take home a new family member. Along with these local rescues there will also be multiple vendors from the area ranging from local pet stores to local pet cafes. This is an opportunity to find a pet for your own home\, support all the local rescues and businesses as well as bring your pet out to socialize. \nWe will also be accepting donations. These donations can range from bags of food\, to toys or monetary donations. All proceeds and donations will be split among the rescues present at the Adopt-A-Thon. If you’re not able to make it out on this date but still want to donate\, please contact Kayla Ann Sirmans or bring your donation by Brazwell’s Premium Pub- Montford Drive. \nIf you have any questions or concerns\, please feel free to contact us. We look forward to having a great event for all!
URL:https://c2cnd.org/event/brazwells-adopt-a-thon/
LOCATION:NC
CATEGORIES:Adoption,Entertainment,Food,Fun,Spirits
ATTACH;FMTTYPE=image/jpeg:https://c2cnd.org/wp-content/uploads/2015/10/Brazwells.jpg
END:VEVENT
END:VCALENDAR